BEGIN:VCALENDAR
VERSION:2.0
PRODID:-//wp-events-plugin.com//7.2.3.1//EN
TZID:Europe/Berlin
X-WR-TIMEZONE:Europe/Berlin
BEGIN:VEVENT
UID:23@waldjugend.de
DTSTART;TZID=Europe/Berlin;VALUE=DATE:20220923
DTEND;TZID=Europe/Berlin;VALUE=DATE:20220926
DTSTAMP:20220819T111409Z
URL:https://waldjugend.de/veranstaltungen/2022-thing/
SUMMARY:Bundesthing
DESCRIPTION:Die Schützenhalle Beringhausen befindet sich in Beringhausen\,
  einem Ortsteil von 34431 Marsberg und steht auf der höchstgelegenen Stel
 le des Dorfes.\n\nDie Straße heißt "'Am Mühlenberg 7.
CATEGORIES:Bundesverband
LOCATION:Schützenhalle Beringhausen\, Am Mühlenberg 7\, Marsberg - OT Ber
 inghausen\, NRW\, 34431 \, Hochsauerland\, Deutschland
X-APPLE-STRUCTURED-LOCATION;VALUE=URI;X-ADDRESS=Am Mühlenberg 7\, Marsberg
  - OT Beringhausen\, NRW\, 34431 \, Hochsauerland\, Deutschland;X-APPLE-RA
 DIUS=100;X-TITLE=Schützenhalle Beringhausen:geo:0,0
END:VEVENT
BEGIN:VTIMEZONE
TZID:Europe/Berlin
X-LIC-LOCATION:Europe/Berlin
BEGIN:DAYLIGHT
DTSTART:20220327T030000
TZOFFSETFROM:+0100
TZOFFSETTO:+0200
TZNAME:CEST
END:DAYLIGHT
END:VTIMEZONE
END:VCALENDAR