BEGIN:VCALENDAR
VERSION:2.0
PRODID:-//wp-events-plugin.com//7.2.3.1//EN
TZID:Europe/Berlin
X-WR-TIMEZONE:Europe/Berlin
BEGIN:VEVENT
UID:382@waldjugend.de
DTSTART;TZID=Europe/Berlin;VALUE=DATE:20271105
DTEND;TZID=Europe/Berlin;VALUE=DATE:20271108
DTSTAMP:20251029T120151Z
URL:https://waldjugend.de/veranstaltungen/bundesforsteinsatz-ii-fahrtenabs
 chluss/
SUMMARY:Bundesforsteinsatz II / Fahrtenabschluss
DESCRIPTION:Infos folgen...
ATTACH;FMTTYPE=image/jpeg:https://waldjugend.de/wp-content/uploads/2023/08
 /Waldjugend_Finnland-Exkursion02_EricEllenberger-scaled.jpg
CATEGORIES:Bundesverband
LOCATION:Burg Ludwigstein\, Burg Ludwigstein\, Witzenhausen\, Hessen\, 3721
 4\, Deutschland
X-APPLE-STRUCTURED-LOCATION;VALUE=URI;X-ADDRESS=Burg Ludwigstein\, Witzenha
 usen\, Hessen\, 37214\, Deutschland;X-APPLE-RADIUS=100;X-TITLE=Burg Ludwig
 stein:geo:0,0
END:VEVENT
BEGIN:VTIMEZONE
TZID:Europe/Berlin
X-LIC-LOCATION:Europe/Berlin
BEGIN:STANDARD
DTSTART:20271031T020000
TZOFFSETFROM:+0200
TZOFFSETTO:+0100
TZNAME:CET
END:STANDARD
END:VTIMEZONE
END:VCALENDAR