BEGIN:VCALENDAR
VERSION:2.0
PRODID:-//wp-events-plugin.com//7.2.3.1//EN
TZID:Europe/Berlin
X-WR-TIMEZONE:Europe/Berlin
BEGIN:VEVENT
UID:242@waldjugend.de
DTSTART;TZID=Europe/Berlin;VALUE=DATE:20251227
DTEND;TZID=Europe/Berlin;VALUE=DATE:20260104
DTSTAMP:20250826T173652Z
URL:https://waldjugend.de/veranstaltungen/bundesgruppenleitungslehrgang-4/
SUMMARY:Bundesgruppenleitungslehrgang
DESCRIPTION:UPDATE 26.08.25 : Die Anmeldung ist freigeschaltet und funktion
 iert. Ihr werdet jedoch keine direkte Bestätigungsmail erhalten.\n\nBevor
  du dich anmeldest\, lies bitte erst einmal die untenstehenden Information
 en! \n\n \n\nBitte bewirb dich hier bis zum 1. November für den diesj
 ährigen BuGruLeh.  \n\nDu hast noch Fragen oder möchtest mehr über d
 en Gruppenleitungslehrgang erfahren? \n\nUnter diesem Link findest du
  alle Informationen.  \n\nViel Spaß :)\n\n \n\nDu bist zwischen 16 un
 d 27 Jahre alt? \n\nSuper\, du kannst dich direkt anmelden! Drücke einfa
 ch auf den Button oben :]\n\n \n\nDu bist noch nicht 16 Jahre alt oder ü
 ber 27? \n\nErzähle uns ein bisschen über dich und deine Motivation\, b
 eim BuGruLeh teilzunehmen. Wir melden uns dann bei dir\, ob du dich anmeld
 en kannst :) \n\nSende eine Mail an leitung-bugruleh@waldjugend.de Beantw
 orte uns folgende Fragen: \n\n 	Woher hast du vom Bugruleh gehört? \n\n
 \n 	Warum möchtest du den BuGruleh machen? \n\n\n 	Was erhoffst du dir v
 om Lehrgang für danach? \n\n\n 	Ist die Anmeldung in Absprache mit dem H
 orst? \n\n \n\nSo läuft die Anmeldung danach ab:  \n\n 	Du füllst d
 ie Online-Anmeldung vollständig und sorgfältig aus und schickst diese ab
 . (Jeder Punkt in der Online-Anmeldung ist für das Lehrgangsteam wichtig)
   \n\n\n 	Du bekommst sofort nach Anmeldung eine Buchungsbestätigung. 
 Das ist noch keine feste Zusage.  \n\n\n 	Du bekommst bis spätestens 7
 . November eine Zusage (vorläufig) oder Absage vom Lehrgangsteam.  \n\
 n\n 	Nach der Zusage bekommst du eine gesonderte Mail mit den Anmeldeformu
 laren\, die du ausgefüllt per Scan bis spätestens 1. Dezember zurücksch
 ickst. Da die Unterlagen deine Unterschrift (und die deiner Eltern) enthal
 ten\, zählt deine Anmeldung erst endgültig\, nachdem wir diese Unterlage
 n erhalten haben.  \n\n\n 	Außerdem bringst du diese ausgefüllten Anm
 eldeformulare ausgedruckt auf den Lehrgang mit.  \n\n\n 	Falls du eine 
 Absage bekommst\, schicken wir dir noch eine persönliche\, begründende M
 ail.  \n\n 
CATEGORIES:Bundesverband
LOCATION:Jugendwaldheim Gillerberg\, Hof Ginsberg 1\, Hilchenbach\, Nordrhe
 in-Westfalen\, 57271\, Deutschland
X-APPLE-STRUCTURED-LOCATION;VALUE=URI;X-ADDRESS=Hof Ginsberg 1\, Hilchenbac
 h\, Nordrhein-Westfalen\, 57271\, Deutschland;X-APPLE-RADIUS=100;X-TITLE=J
 ugendwaldheim Gillerberg:geo:0,0
END:VEVENT
BEGIN:VTIMEZONE
TZID:Europe/Berlin
X-LIC-LOCATION:Europe/Berlin
BEGIN:STANDARD
DTSTART:20251026T020000
TZOFFSETFROM:+0200
TZOFFSETTO:+0100
TZNAME:CET
END:STANDARD
END:VTIMEZONE
END:VCALENDAR