BEGIN:VCALENDAR
VERSION:2.0
PRODID:-//wp-events-plugin.com//7.2.3.1//EN
TZID:Europe/Berlin
X-WR-TIMEZONE:Europe/Berlin
BEGIN:VEVENT
UID:396@waldjugend.de
DTSTART;TZID=Europe/Berlin;VALUE=DATE:20281110
DTEND;TZID=Europe/Berlin;VALUE=DATE:20281113
DTSTAMP:20251114T085114Z
URL:https://waldjugend.de/veranstaltungen/bundesverband-bufo-ii/
SUMMARY:Bundesverband - Bufo II
DESCRIPTION:Infos folgen...
CATEGORIES:Bundesverband
END:VEVENT
BEGIN:VTIMEZONE
TZID:Europe/Berlin
X-LIC-LOCATION:Europe/Berlin
BEGIN:STANDARD
DTSTART:20281029T020000
TZOFFSETFROM:+0200
TZOFFSETTO:+0100
TZNAME:CET
END:STANDARD
END:VTIMEZONE
END:VCALENDAR