BEGIN:VCALENDAR
VERSION:2.0
PRODID:-//wp-events-plugin.com//7.2.3.1//EN
TZID:Europe/Berlin
X-WR-TIMEZONE:Europe/Berlin
BEGIN:VEVENT
UID:390@waldjugend.de
DTSTART;TZID=Europe/Berlin;VALUE=DATE:20270312
DTEND;TZID=Europe/Berlin;VALUE=DATE:20270315
DTSTAMP:20251114T082651Z
URL:https://waldjugend.de/veranstaltungen/bundesverband-thing-und-bwr-i/
SUMMARY:Bundesverband - Thing und BWR I
DESCRIPTION:Infos folgen...
CATEGORIES:Bundesverband
END:VEVENT
BEGIN:VTIMEZONE
TZID:Europe/Berlin
X-LIC-LOCATION:Europe/Berlin
BEGIN:STANDARD
DTSTART:20261025T020000
TZOFFSETFROM:+0200
TZOFFSETTO:+0100
TZNAME:CET
END:STANDARD
END:VTIMEZONE
END:VCALENDAR