BEGIN:VCALENDAR
VERSION:2.0
PRODID:-//wp-events-plugin.com//7.2.3.1//EN
TZID:Europe/Berlin
X-WR-TIMEZONE:Europe/Berlin
BEGIN:VEVENT
UID:394@waldjugend.de
DTSTART;TZID=Europe/Berlin;VALUE=DATE:20280331
DTEND;TZID=Europe/Berlin;VALUE=DATE:20280403
DTSTAMP:20251114T084258Z
URL:https://waldjugend.de/veranstaltungen/bundesverband-workshopwochenende
 -i-2/
SUMMARY:Bundesverband - Workshopwochenende I
DESCRIPTION:Infos folgen rechtzeitig...
CATEGORIES:Bundesverband
END:VEVENT
BEGIN:VTIMEZONE
TZID:Europe/Berlin
X-LIC-LOCATION:Europe/Berlin
BEGIN:DAYLIGHT
DTSTART:20280326T030000
TZOFFSETFROM:+0100
TZOFFSETTO:+0200
TZNAME:CEST
END:DAYLIGHT
END:VTIMEZONE
END:VCALENDAR