BEGIN:VCALENDAR
VERSION:2.0
PRODID:-//wp-events-plugin.com//7.2.3.1//EN
TZID:Europe/Berlin
X-WR-TIMEZONE:Europe/Berlin
BEGIN:VEVENT
UID:391@waldjugend.de
DTSTART;TZID=Europe/Berlin;VALUE=DATE:20270423
DTEND;TZID=Europe/Berlin;VALUE=DATE:20270426
DTSTAMP:20251114T083027Z
URL:https://waldjugend.de/veranstaltungen/bundesverband-workshopwochenende
 -i/
SUMMARY:Bundesverband - Workshopwochenende I
DESCRIPTION:Infos folgen...
CATEGORIES:Bundesverband
END:VEVENT
BEGIN:VTIMEZONE
TZID:Europe/Berlin
X-LIC-LOCATION:Europe/Berlin
BEGIN:DAYLIGHT
DTSTART:20270328T030000
TZOFFSETFROM:+0100
TZOFFSETTO:+0200
TZNAME:CEST
END:DAYLIGHT
END:VTIMEZONE
END:VCALENDAR