BEGIN:VCALENDAR
VERSION:2.0
PRODID:-//wp-events-plugin.com//7.2.3.1//EN
TZID:Europe/Berlin
X-WR-TIMEZONE:Europe/Berlin
BEGIN:VEVENT
UID:236@waldjugend.de
DTSTART;TZID=Europe/Berlin;VALUE=DATE:20230310
DTEND;TZID=Europe/Berlin;VALUE=DATE:20230313
DTSTAMP:20230308T101914Z
URL:https://waldjugend.de/veranstaltungen/bwr-i/
SUMMARY:Bundesverband - BWR I
DESCRIPTION:Der BWR findet zwar auf dem Jugendzeltplatz\, aber in festen Ge
 bäuden statt. Ihr braucht keine Zelte!
CATEGORIES:Bundesverband
LOCATION:Jugendzeltplatz Bonn\, Venner Str. 54 \, Bonn\, NRW\, 53177\, Deut
 schland
X-APPLE-STRUCTURED-LOCATION;VALUE=URI;X-ADDRESS=Venner Str. 54 \, Bonn\, NR
 W\, 53177\, Deutschland;X-APPLE-RADIUS=100;X-TITLE=Jugendzeltplatz Bonn:ge
 o:0,0
END:VEVENT
BEGIN:VTIMEZONE
TZID:Europe/Berlin
X-LIC-LOCATION:Europe/Berlin
BEGIN:STANDARD
DTSTART:20221030T020000
TZOFFSETFROM:+0200
TZOFFSETTO:+0100
TZNAME:CET
END:STANDARD
END:VTIMEZONE
END:VCALENDAR