BEGIN:VCALENDAR
VERSION:2.0
PRODID:-//wp-events-plugin.com//7.2.3.1//EN
TZID:Europe/Berlin
X-WR-TIMEZONE:Europe/Berlin
BEGIN:VEVENT
UID:407@waldjugend.de
DTSTART;TZID=Europe/Berlin;VALUE=DATE:20261009
DTEND;TZID=Europe/Berlin;VALUE=DATE:20261012
DTSTAMP:20260422T101542Z
URL:https://waldjugend.de/veranstaltungen/demokratie-werkstatt-teil-2/
SUMMARY:Demokratie-Werkstatt - 2. Teil
DESCRIPTION:Einladung zur Demokratie-Werkstatt\, Teil 2 – Multiplikator:
 in werden \n\nIm 2. Teil üben wir gemeinsam Methoden ein\, die ihr in e
 uren Gruppen anwenden könnt\, um ins Gespräch zu kommen und um Wissen in
  dem Bereich weiterzugeben. \n\nAber auch\, wie ihr auf Grenzüberschreit
 ungen und diskriminierende oder demokratiefeindliche Äußerungen reagiert
 . Und wo man Hilfe holt. \n\nHaltet euch das Wochenende vom 09.-11.10.2
 026 jetzt schon mal im Kalender frei! \n\n \n\nBei Fragen\, Wünschen\,
  Anregungen meldet euch bei mir unter \n\npia.seitz@waldjugend.de oder u
 nter 0228 9459 848. 
ATTACH;FMTTYPE=image/jpeg:https://waldjugend.de/wp-content/uploads/2026/04
 /bild-Demokratiewerkstatt-teil-2.png
CATEGORIES:Bundesverband
END:VEVENT
BEGIN:VTIMEZONE
TZID:Europe/Berlin
X-LIC-LOCATION:Europe/Berlin
BEGIN:DAYLIGHT
DTSTART:20260329T030000
TZOFFSETFROM:+0100
TZOFFSETTO:+0200
TZNAME:CEST
END:DAYLIGHT
END:VTIMEZONE
END:VCALENDAR