BEGIN:VCALENDAR
VERSION:2.0
PRODID:-//wp-events-plugin.com//7.2.3.1//EN
TZID:Europe/Berlin
X-WR-TIMEZONE:Europe/Berlin
BEGIN:VEVENT
UID:265@waldjugend.de
DTSTART;TZID=Europe/Berlin;VALUE=DATE:20230210
DTEND;TZID=Europe/Berlin;VALUE=DATE:20230213
DTSTAMP:20221221T112356Z
URL:https://waldjugend.de/veranstaltungen/lvb-hessen-arbeitskreis-zukunft/
SUMMARY:Lvb. Hessen - Arbeitskreis "Zukunft"
DESCRIPTION:Wir wollen Ideen sammeln\, wie wir die Waldjugend in Zukunft ge
 stalten wollen. Fokus: Unterstützung und Neugründung von Ortsgruppen sow
 ie Ideen\, wie eine Älteren-Struktur geschaffen werden kann. Wenn ihr Int
 eresse und gute Ideen habt\, kommt gerne vorbei!\n\nAnmeldung und weitere 
 Infos unter Termine - Waldjugend Hessen (waldjugend-hessen.de)
CATEGORIES:Lvb. Hessen
END:VEVENT
BEGIN:VTIMEZONE
TZID:Europe/Berlin
X-LIC-LOCATION:Europe/Berlin
BEGIN:STANDARD
DTSTART:20221030T020000
TZOFFSETFROM:+0200
TZOFFSETTO:+0100
TZNAME:CET
END:STANDARD
END:VTIMEZONE
END:VCALENDAR