BEGIN:VCALENDAR
VERSION:2.0
PRODID:-//wp-events-plugin.com//7.2.3.1//EN
TZID:Europe/Berlin
X-WR-TIMEZONE:Europe/Berlin
BEGIN:VEVENT
UID:304@waldjugend.de
DTSTART;TZID=Europe/Berlin;VALUE=DATE:20240302
DTEND;TZID=Europe/Berlin;VALUE=DATE:20240304
DTSTAMP:20240131T110559Z
URL:https://waldjugend.de/veranstaltungen/lvb-hessen-landesthing-u-lawara-
 mit-stangenbau-workshop-und-singeabend/
SUMMARY:Lvb. Hessen - Landesthing u. LaWaRa I (inkl. Stangenbau-Workshop un
 d Singeabend)
DESCRIPTION:Infos und Anmeldungslink findet ihr hier: Termine - Waldjugend 
 Hessen (waldjugend-hessen.de)
CATEGORIES:Lvb. Hessen
END:VEVENT
BEGIN:VTIMEZONE
TZID:Europe/Berlin
X-LIC-LOCATION:Europe/Berlin
BEGIN:STANDARD
DTSTART:20231029T020000
TZOFFSETFROM:+0200
TZOFFSETTO:+0100
TZNAME:CET
END:STANDARD
END:VTIMEZONE
END:VCALENDAR