BEGIN:VCALENDAR
VERSION:2.0
PRODID:-//wp-events-plugin.com//7.2.3.1//EN
TZID:Europe/Berlin
X-WR-TIMEZONE:Europe/Berlin
BEGIN:VEVENT
UID:220@waldjugend.de
DTSTART;TZID=Europe/Berlin;VALUE=DATE:20221014
DTEND;TZID=Europe/Berlin;VALUE=DATE:20221017
DTSTAMP:20220824T072558Z
URL:https://waldjugend.de/veranstaltungen/lvb-hessen-lawara-ii-hessischer-
 fahrtenabschluss/
SUMMARY:Lvb. Hessen - Thing &amp\; LaWaRa II &amp\; Hessischer Fahrtenabsch
 luss
DESCRIPTION:Termine - Waldjugend Hessen (waldjugend-hessen.de)
CATEGORIES:Lvb. Hessen
END:VEVENT
BEGIN:VTIMEZONE
TZID:Europe/Berlin
X-LIC-LOCATION:Europe/Berlin
BEGIN:DAYLIGHT
DTSTART:20220327T030000
TZOFFSETFROM:+0100
TZOFFSETTO:+0200
TZNAME:CEST
END:DAYLIGHT
END:VTIMEZONE
END:VCALENDAR