BEGIN:VCALENDAR
VERSION:2.0
PRODID:-//wp-events-plugin.com//7.2.3.1//EN
TZID:Europe/Berlin
X-WR-TIMEZONE:Europe/Berlin
BEGIN:VEVENT
UID:198@waldjugend.de
DTSTART;TZID=Europe/Berlin;VALUE=DATE:20221008
DTEND;TZID=Europe/Berlin;VALUE=DATE:20221010
DTSTAMP:20220218T132311Z
URL:https://waldjugend.de/veranstaltungen/lvb-rlp-seminar-outdoor-erste-hi
 lfe/
SUMMARY:Lvb. RLP - Seminar ''Outdoor-Erste-Hilfe''
DESCRIPTION:Infos bitte beim Landesverband RLP erfragen.
CATEGORIES:Lvb. RLP
END:VEVENT
BEGIN:VTIMEZONE
TZID:Europe/Berlin
X-LIC-LOCATION:Europe/Berlin
BEGIN:DAYLIGHT
DTSTART:20220327T030000
TZOFFSETFROM:+0100
TZOFFSETTO:+0200
TZNAME:CEST
END:DAYLIGHT
END:VTIMEZONE
END:VCALENDAR