BEGIN:VCALENDAR
VERSION:2.0
PRODID:-//wp-events-plugin.com//7.2.3.1//EN
TZID:Europe/Berlin
X-WR-TIMEZONE:Europe/Berlin
BEGIN:VEVENT
UID:404@waldjugend.de
DTSTART;TZID=Europe/Berlin;VALUE=DATE:20260918
DTEND;TZID=Europe/Berlin;VALUE=DATE:20260921
DTSTAMP:20260422T102738Z
URL:https://waldjugend.de/veranstaltungen/praeventionsseminar/
SUMMARY:Präventionsseminar
DESCRIPTION:Seminar zur Prävention von sexuellem Machtmissbrauch\n\nDieses
  Jahr wird es wieder auch vom Bundesverband ein Präventionsseminar für a
 lle geben.\n\nKomm vorbei\, wenn du …\n\n 	Gruppenleiter:in bist und dic
 h noch nicht oder nur ein bisschen mit KiM-Themen beschäftigt hast\,\n 	d
 ir wichtig ist\, dass sich alle in Gruppenstunden und auf Lagern wohlfühl
 en\, es aber auch sagen können/sollen\, wenn es nicht so ist\,\n 	du wiss
 en willst\, welche unterschiedlichen Formen von Gewalt und Machtmissbrauch
  es gibt und wie du sie erkennen und damit umgehen kannst\,\n 	du möglich
 e und effektive Reaktionen auf blöde Situationen kennenlernen möchtest\,
 \n 	du das Schutzkonzept der Waldjugend auch in deiner Gruppe umsetzen wil
 lst\,\n 	du eigentlich schon viel weißt\, aber noch 1000 ganz andere Frag
 en zu dem Thema hast!\n\nWann:\n\n18.-20.09.26 (Programm von Samstagmorgen
  bis Sonntagmittag)\n\nWo:\n\nRaum Frankfurt –  genauere Infos folgen!\
 n\nReferent:innen sind Mascha und Lea\, die die Waldjugend gut kennen\, in
  dem Bereich arbeiten und u.a. für Tabubruch Seminare für bündische Gru
 ppen zu dem Thema geben.\n\nMelde dich gleich an. Anmeldeschluss ist der 2
 1.07.2026. Bei Fragen schreib bitte an: pia.seitz@waldjugend.de
ATTACH;FMTTYPE=image/jpeg:https://waldjugend.de/wp-content/uploads/2026/03
 /Plakat-Kim-Seminar.png
CATEGORIES:Bundesverband
END:VEVENT
BEGIN:VTIMEZONE
TZID:Europe/Berlin
X-LIC-LOCATION:Europe/Berlin
BEGIN:DAYLIGHT
DTSTART:20260329T030000
TZOFFSETFROM:+0100
TZOFFSETTO:+0200
TZNAME:CEST
END:DAYLIGHT
END:VTIMEZONE
END:VCALENDAR