BEGIN:VCALENDAR
VERSION:2.0
PRODID:-//wp-events-plugin.com//7.2.3.1//EN
TZID:Europe/Berlin
X-WR-TIMEZONE:Europe/Berlin
BEGIN:VEVENT
UID:352@waldjugend.de
DTSTART;TZID=Europe/Berlin;VALUE=DATE:20250322
DTEND;TZID=Europe/Berlin;VALUE=DATE:20250324
DTSTAMP:20250112T111922Z
URL:https://waldjugend.de/veranstaltungen/seminar-bauen-mit-holz/
SUMMARY:Seminar „Bauen mit Holz“
DESCRIPTION:Seminar „Bauen mit Holz“ – Deutsche Waldjugend Landesverb
 and Hamburg e.V.
CATEGORIES:Lvb. Hamburg
END:VEVENT
BEGIN:VTIMEZONE
TZID:Europe/Berlin
X-LIC-LOCATION:Europe/Berlin
BEGIN:STANDARD
DTSTART:20241027T020000
TZOFFSETFROM:+0200
TZOFFSETTO:+0100
TZNAME:CET
END:STANDARD
END:VTIMEZONE
END:VCALENDAR