BEGIN:VCALENDAR
VERSION:2.0
PRODID:-//wp-events-plugin.com//7.2.3.1//EN
TZID:Europe/Berlin
X-WR-TIMEZONE:Europe/Berlin
BEGIN:VEVENT
UID:187@waldjugend.de
DTSTART;TZID=Europe/Berlin;VALUE=DATE:20220521
DTEND;TZID=Europe/Berlin;VALUE=DATE:20220524
DTSTAMP:20220218T131008Z
URL:https://waldjugend.de/veranstaltungen/seminar-lager-und-lagertechnik/
SUMMARY:Lvb. Hamburg - Seminar "Lager und Lagertechnik"
DESCRIPTION:Infos unter:\n\nSeminar “Lager &amp\; Lagertechnik” – Deu
 tsche Waldjugend Landesverband Hamburg e.V. (deutsche-waldjugend-hh.de)
CATEGORIES:Lvb. Hamburg
LOCATION:Landeszentrum bene partus\, Wulmstal 8\, Hamburg\, Hamburg\, 21149
 \, Deutschland
X-APPLE-STRUCTURED-LOCATION;VALUE=URI;X-ADDRESS=Wulmstal 8\, Hamburg\, Hamb
 urg\, 21149\, Deutschland;X-APPLE-RADIUS=100;X-TITLE=Landeszentrum bene pa
 rtus:geo:0,0
END:VEVENT
BEGIN:VTIMEZONE
TZID:Europe/Berlin
X-LIC-LOCATION:Europe/Berlin
BEGIN:DAYLIGHT
DTSTART:20220327T030000
TZOFFSETFROM:+0100
TZOFFSETTO:+0200
TZNAME:CEST
END:DAYLIGHT
END:VTIMEZONE
END:VCALENDAR