BEGIN:VCALENDAR
VERSION:2.0
PRODID:-//wp-events-plugin.com//7.2.3.1//EN
TZID:Europe/Berlin
X-WR-TIMEZONE:Europe/Berlin
BEGIN:VEVENT
UID:408@waldjugend.de
DTSTART;TZID=Europe/Berlin:20260822T000000
DTEND;TZID=Europe/Berlin:20260823T000000
DTSTAMP:20260424T111226Z
URL:https://waldjugend.de/veranstaltungen/seminar-waldjugend-und-ki/
SUMMARY:Seminar "Waldjugend und KI"
DESCRIPTION:Wir führen im Landesverband Hamburg eine Schulung nach dem AI 
 Literacy Act durch\,\naußerdem bauen wir uns unseren eigenen Gruppenstund
 en-Agent :-) .\nLaptops bitte mitbringen.\nSeminar „KI in der Waldjugend
 “ – Deutsche Waldjugend Landesverband Hamburg e.V.
LOCATION:Haus bene partus\, Wulmstal 8\, Hamburg\, Hamburg\, 21149\, Deutsc
 hland
X-APPLE-STRUCTURED-LOCATION;VALUE=URI;X-ADDRESS=Wulmstal 8\, Hamburg\, Hamb
 urg\, 21149\, Deutschland;X-APPLE-RADIUS=100;X-TITLE=Haus bene partus:geo:
 0,0
END:VEVENT
BEGIN:VTIMEZONE
TZID:Europe/Berlin
X-LIC-LOCATION:Europe/Berlin
BEGIN:DAYLIGHT
DTSTART:20260329T030000
TZOFFSETFROM:+0100
TZOFFSETTO:+0200
TZNAME:CEST
END:DAYLIGHT
END:VTIMEZONE
END:VCALENDAR