BEGIN:VCALENDAR
VERSION:2.0
PRODID:-//wp-events-plugin.com//7.2.3.1//EN
TZID:Europe/Berlin
X-WR-TIMEZONE:Europe/Berlin
BEGIN:VEVENT
UID:397@waldjugend.de
DTSTART;TZID=Europe/Berlin:20260211T200000
DTEND;TZID=Europe/Berlin:20260211T213000
DTSTAMP:20260210T125654Z
URL:https://waldjugend.de/veranstaltungen/waldjugendakademie-kassenfuehrun
 g/
SUMMARY:Waldjugendakademie - Kassenführung
DESCRIPTION:\n\nIm Rahmen der Waldjugendakademie bieten wir euch zum Jahres
 beginn ein Thema an\, das für alle\, die sich mit Talern und der Kasse be
 schäftigen\, interessant sein wird:\n\n 	11.02.2026: Kassenführung leich
 t gemacht.\n\nDazu möchten wir uns 60-90 Minuten via Teams mit euch austa
 uschen. Für aktuelle Infos kommt gerne in die WhatsApp-Gruppe https://ch
 at.whatsapp.com/LLgvhW6ykQ1D7eHopuNXUk?mode=ac_t  \n\noder sendet bei Fr
 agen eine E-Mail an mich: pia.seitz@waldjugend.de. \n\nJetzt an der Bespr
 echung teilnehmen\n\nBesprechungs-ID: 352 156 146 379 27\n\nKennung: 9Ge2X
 T2S\n\nIch freue mich auf euch!
CATEGORIES:Bundesverband
END:VEVENT
BEGIN:VTIMEZONE
TZID:Europe/Berlin
X-LIC-LOCATION:Europe/Berlin
BEGIN:STANDARD
DTSTART:20251026T020000
TZOFFSETFROM:+0200
TZOFFSETTO:+0100
TZNAME:CET
END:STANDARD
END:VTIMEZONE
END:VCALENDAR