BEGIN:VCALENDAR
VERSION:2.0
PRODID:-//wp-events-plugin.com//7.2.3.1//EN
TZID:Europe/Berlin
X-WR-TIMEZONE:Europe/Berlin
BEGIN:VEVENT
UID:375@waldjugend.de
DTSTART;TZID=Europe/Berlin;VALUE=DATE:20260424
DTEND;TZID=Europe/Berlin;VALUE=DATE:20260427
DTSTAMP:20260414T150252Z
URL:https://waldjugend.de/veranstaltungen/workshop-referate-u-arbeitskreis
 e-i-4/
SUMMARY:Workshop Referate u. Arbeitskreise I
DESCRIPTION:Das Workshop-Wochenende öffnet seine Türen! Am 24. bis 26. Ap
 ril treffen wir uns in Hannover im Gleisdreieck. Was das Workshop-Wochenen
 de eigentlich ist\, fragt ihr euch?\n\nAn diesem Wochenende treffen sich d
 ie Referate und Arbeitskreise der Waldjugend - und wenn du gern dabei sein
  willst\, komm vorbei! Du bist in keinem Referat oder Arbeitskreis? Dann k
 omm vorbei\, setz dich einfach mit an einen Tisch und mach mit!\n\nEs wird
  übrigens gemunkelt\, dass bei genug Anmeldungen sogar eine Popcornmaschi
 ne organisiert wird ... crazy.\n\nPack deine Liebsten ein und melde dich a
 n!\n\n&nbsp\;
CATEGORIES:Bundesverband
LOCATION:Gleisdreieck Hannover\, Borriesstr. 28\, Hannover\, Niedersachsen\
 , 30519\, Deutschland
X-APPLE-STRUCTURED-LOCATION;VALUE=URI;X-ADDRESS=Borriesstr. 28\, Hannover\,
  Niedersachsen\, 30519\, Deutschland;X-APPLE-RADIUS=100;X-TITLE=Gleisdreie
 ck Hannover:geo:0,0
END:VEVENT
BEGIN:VTIMEZONE
TZID:Europe/Berlin
X-LIC-LOCATION:Europe/Berlin
BEGIN:DAYLIGHT
DTSTART:20260329T030000
TZOFFSETFROM:+0100
TZOFFSETTO:+0200
TZNAME:CEST
END:DAYLIGHT
END:VTIMEZONE
END:VCALENDAR