BEGIN:VCALENDAR
VERSION:2.0
PRODID:-//wp-events-plugin.com//7.2.3.1//EN
TZID:Europe/Berlin
X-WR-TIMEZONE:Europe/Berlin
BEGIN:VEVENT
UID:376@waldjugend.de
DTSTART;TZID=Europe/Berlin;VALUE=DATE:20261120
DTEND;TZID=Europe/Berlin;VALUE=DATE:20261123
DTSTAMP:20250924T124625Z
URL:https://waldjugend.de/veranstaltungen/workshop-referate-u-arbeitskreis
 e-ii-4/
SUMMARY:Workshop Referate u. Arbeitskreise II
DESCRIPTION:Infos folgen...
CATEGORIES:Bundesverband
END:VEVENT
BEGIN:VTIMEZONE
TZID:Europe/Berlin
X-LIC-LOCATION:Europe/Berlin
BEGIN:STANDARD
DTSTART:20261025T020000
TZOFFSETFROM:+0200
TZOFFSETTO:+0100
TZNAME:CET
END:STANDARD
END:VTIMEZONE
END:VCALENDAR