BEGIN:VCALENDAR
VERSION:2.0
PRODID:-//wp-events-plugin.com//7.2.3.1//EN
TZID:Europe/Berlin
X-WR-TIMEZONE:Europe/Berlin
BEGIN:VEVENT
UID:385@waldjugend.de
DTSTART;TZID=Europe/Berlin;VALUE=DATE:20281117
DTEND;TZID=Europe/Berlin;VALUE=DATE:20281120
DTSTAMP:20251029T121742Z
URL:https://waldjugend.de/veranstaltungen/workshop-referate-u-arbeitskreis
 e-ii-6/
SUMMARY:Workshop Referate u. Arbeitskreise II
DESCRIPTION:Infos folgen...
CATEGORIES:Bundesverband
END:VEVENT
BEGIN:VTIMEZONE
TZID:Europe/Berlin
X-LIC-LOCATION:Europe/Berlin
BEGIN:STANDARD
DTSTART:20281029T020000
TZOFFSETFROM:+0200
TZOFFSETTO:+0100
TZNAME:CET
END:STANDARD
END:VTIMEZONE
END:VCALENDAR