BEGIN:VCALENDAR
VERSION:2.0
PRODID:-//wp-events-plugin.com//7.2.3.1//EN
TZID:Europe/Berlin
X-WR-TIMEZONE:Europe/Berlin
BEGIN:VEVENT
UID:179@waldjugend.de
DTSTART;TZID=Europe/Berlin;VALUE=DATE:20220325
DTEND;TZID=Europe/Berlin;VALUE=DATE:20220328
DTSTAMP:20220302T090003Z
URL:https://waldjugend.de/veranstaltungen/workshop-referate-und-arbeitskre
 ise-i-inkl-ak-bula/
SUMMARY:Workshop Referate und Arbeitskreise I (inkl. AK BuLa)
DESCRIPTION:Unser erstes Workshop-Wochenende für dieses Jahr steht vor der
  Tür. Dazu sind das Referat Kim und der Arbeitskreis BuLa herzlichst eing
 eladen\, an verschiedenen Themen weiterzuarbeiten und Projekte voranzutrei
 ben.\nBitte meldet euch dazu über die Homepage bis zum 20.03.22 an.\n
CATEGORIES:Bundesverband
LOCATION:Stammesheim Wildwasser\, Frankfurter Landstr. 90\, Hanau\, Hessen\
 , 63454\, Deutschland
X-APPLE-STRUCTURED-LOCATION;VALUE=URI;X-ADDRESS=Frankfurter Landstr. 90\, H
 anau\, Hessen\, 63454\, Deutschland;X-APPLE-RADIUS=100;X-TITLE=Stammesheim
  Wildwasser:geo:0,0
END:VEVENT
BEGIN:VTIMEZONE
TZID:Europe/Berlin
X-LIC-LOCATION:Europe/Berlin
BEGIN:STANDARD
DTSTART:20211031T020000
TZOFFSETFROM:+0200
TZOFFSETTO:+0100
TZNAME:CET
END:STANDARD
BEGIN:DAYLIGHT
DTSTART:20220327T030000
TZOFFSETFROM:+0100
TZOFFSETTO:+0200
TZNAME:CEST
END:DAYLIGHT
END:VTIMEZONE
END:VCALENDAR